BEGIN:VCALENDAR
VERSION:2.0
PRODID:-//wp-events-plugin.com//7.2.3.1//EN
BEGIN:VEVENT
UID:204@albanytraining.co.uk
DTSTART:20241012T091500Z
DTEND:20241012T171500Z
DTSTAMP:20240806T121537Z
URL:https://www.albanytraining.co.uk/events/blended-learning-forest-school
 -paediatric-first-aid-course-october-2024-in-preston/
SUMMARY:Blended Learning Forest School & Paediatric First Aid course - 12th
  October 2024 in Preston
DESCRIPTION:L3 Blended Forest School & Paediatric First Aid course being he
 ld in Preston
ATTACH;FMTTYPE=image/jpeg:https://www.albanytraining.co.uk/wp-content/uplo
 ads/2016/07/Choking-pic4.jpg
CATEGORIES:First Aid,Forest School First Aid,Paediatric First Aid
LOCATION:Pool House Primary School\, Kidsgrove\, Ingol\, Preston\, Lancashi
 re\, PR2 7XB\, United Kingdom
X-APPLE-STRUCTURED-LOCATION;VALUE=URI;X-ADDRESS=Kidsgrove\, Ingol\, Preston
 \, Lancashire\, PR2 7XB\, United Kingdom;X-APPLE-RADIUS=100;X-TITLE=Pool H
 ouse Primary School:geo:0,0
END:VEVENT
END:VCALENDAR