BEGIN:VCALENDAR
VERSION:2.0
PRODID:-//wp-events-plugin.com//7.2.3.1//EN
BEGIN:VEVENT
UID:279@albanytraining.co.uk
DTSTART:20260620T093000Z
DTEND:20260620T163000Z
DTSTAMP:20260422T113751Z
URL:https://www.albanytraining.co.uk/events/blended-learning-paediatric-fi
 rst-aid-course-saturday-20th-june-2026-in-knowsley/
SUMMARY:Blended Learning Paediatric First Aid course - Saturday 20th June\,
  2026 in Knowsley
DESCRIPTION:L3 Blended Paediatric First Aid course being held in Knowsley
ATTACH;FMTTYPE=image/jpeg:https://www.albanytraining.co.uk/wp-content/uplo
 ads/2016/07/Choking-pic4.jpg
CATEGORIES:First Aid,Paediatric First Aid
LOCATION:Millbrook Primary School\, Kirkby Row\, Kirkby\, Knowsley\, L32 0T
 G\, North West\, England
X-APPLE-STRUCTURED-LOCATION;VALUE=URI;X-ADDRESS=Kirkby Row\, Kirkby\, Knows
 ley\, L32 0TG\, North West\, England;X-APPLE-RADIUS=100;X-TITLE=Millbrook 
 Primary School:geo:0,0
END:VEVENT
END:VCALENDAR